BEGIN:VCALENDAR
VERSION:2.0
PRODID:-//ChamberMaster//Event Calendar 2.0//EN
METHOD:PUBLISH
X-PUBLISHED-TTL:P3D
REFRESH-INTERVAL:P3D
CALSCALE:GREGORIAN
BEGIN:VEVENT
DTSTART:20260218T060000Z
DTEND:20260218T060000Z
X-MICROSOFT-CDO-ALLDAYEVENT:FALSE
SUMMARY:Bagpipes at Sunset!!
DESCRIPTION:Every night at sunset is a one-of-a-kind experience at Lobo Del Mar Caf . As the sun goes down\, our bagpipers salute God and country over our bay at sunset on Piper's Landing.\n\nEnjoy the evening breeze\, sit back\, and drink in the sounds of this age-old instrument.
X-ALT-DESC;FMTTYPE=text/html:<p>Every night at sunset is a one-of-a-kind experience at Lobo Del Mar Caf&eacute\;. As the sun goes down\, our bagpipers salute God and country over our bay at sunset on Piper&rsquo\;s Landing.</p>\n\n<p>Enjoy the evening breeze\, sit back\, and drink in the sounds of this age-old instrument.</p>\n
LOCATION:
UID:e.2321.13250
SEQUENCE:3
DTSTAMP:20260422T090205Z
URL:https://business.spichamber.com/events/details/bagpipes-at-sunset-02-18-2026-13250
END:VEVENT

END:VCALENDAR
